BEGIN:VCALENDAR
VERSION:2.0
PRODID:icalendar-ruby
CALSCALE:GREGORIAN
METHOD:PUBLISH
BEGIN:VEVENT
DTSTAMP:20260423T035309Z
UID:16-344488@fellowshipbaptist155.tithelysetup5.com
DTSTART:20261025T140000Z
DTEND:20261025T144500Z
CLASS:PUBLIC
CREATED:20260422T230532
DESCRIPTION:
LAST-MODIFIED:20260422T230532
LOCATION:
SUMMARY:Sunday School
URL;VALUE=URI:https://www.fellowshipofwilmington.org/events/sunday-school/2
 026-10-25
END:VEVENT
END:VCALENDAR
