BEGIN:VCALENDAR
VERSION:2.0
PRODID:icalendar-ruby
CALSCALE:GREGORIAN
METHOD:PUBLISH
BEGIN:VEVENT
DTSTAMP:20260422T223834Z
UID:16-344165@fellowshipbaptist155.tithelysetup5.com
DTSTART:20260927T140000Z
DTEND:20260927T144500Z
CLASS:PUBLIC
CREATED:20260422T171942
DESCRIPTION:
LAST-MODIFIED:20260422T171942
LOCATION:
SUMMARY:Sunday School
URL;VALUE=URI:https://www.fellowshipofwilmington.org/events/sunday-school/2
 026-09-27
END:VEVENT
END:VCALENDAR
