BEGIN:VCALENDAR
VERSION:2.0
PRODID:icalendar-ruby
CALSCALE:GREGORIAN
METHOD:PUBLISH
BEGIN:VEVENT
DTSTAMP:20260422T194932Z
UID:16-344004@fellowshipbaptist155.tithelysetup5.com
DTSTART:20260913T140000Z
DTEND:20260913T144500Z
CLASS:PUBLIC
CREATED:20260422T142421
DESCRIPTION:
LAST-MODIFIED:20260422T142421
LOCATION:
SUMMARY:Sunday School
URL;VALUE=URI:https://www.fellowshipofwilmington.org/events/sunday-school/2
 026-09-13
END:VEVENT
END:VCALENDAR
