BEGIN:VCALENDAR
VERSION:2.0
PRODID:icalendar-ruby
CALSCALE:GREGORIAN
METHOD:PUBLISH
BEGIN:VEVENT
DTSTAMP:20260423T031928Z
UID:15-344447@fellowshipbaptist155.tithelysetup5.com
DTSTART:20261018T150000Z
DTEND:20261018T161500Z
CLASS:PUBLIC
CREATED:20260422T230532
DESCRIPTION:
LAST-MODIFIED:20260422T230532
LOCATION:
SUMMARY:Sunday Morning Worship
URL;VALUE=URI:https://www.fellowshipofwilmington.org/events/sunday-morning-
 worship/2026-10-18
END:VEVENT
END:VCALENDAR
