BEGIN:VCALENDAR
VERSION:2.0
PRODID:icalendar-ruby
CALSCALE:GREGORIAN
METHOD:PUBLISH
BEGIN:VEVENT
DTSTAMP:20260423T020437Z
UID:15-344286@fellowshipbaptist155.tithelysetup5.com
DTSTART:20261011T150000Z
DTEND:20261011T161500Z
CLASS:PUBLIC
CREATED:20260422T201117
DESCRIPTION:
LAST-MODIFIED:20260422T201117
LOCATION:
SUMMARY:Sunday Morning Worship
URL;VALUE=URI:https://www.fellowshipofwilmington.org/events/sunday-morning-
 worship/2026-10-11
END:VEVENT
END:VCALENDAR
