BEGIN:VCALENDAR
VERSION:2.0
PRODID:icalendar-ruby
CALSCALE:GREGORIAN
METHOD:PUBLISH
BEGIN:VEVENT
DTSTAMP:20260422T215013Z
UID:15-344124@fellowshipbaptist155.tithelysetup5.com
DTSTART:20260920T150000Z
DTEND:20260920T161500Z
CLASS:PUBLIC
CREATED:20260422T171942
DESCRIPTION:
LAST-MODIFIED:20260422T171942
LOCATION:
SUMMARY:Sunday Morning Worship
URL;VALUE=URI:https://www.fellowshipofwilmington.org/events/sunday-morning-
 worship/2026-09-20
END:VEVENT
END:VCALENDAR
