BEGIN:VCALENDAR
VERSION:2.0
PRODID:icalendar-ruby
CALSCALE:GREGORIAN
METHOD:PUBLISH
BEGIN:VEVENT
DTSTAMP:20260422T201615Z
UID:15-343964@fellowshipbaptist155.tithelysetup5.com
DTSTART:20260913T150000Z
DTEND:20260913T161500Z
CLASS:PUBLIC
CREATED:20260422T142421
DESCRIPTION:
LAST-MODIFIED:20260422T142421
LOCATION:
SUMMARY:Sunday Morning Worship
URL;VALUE=URI:https://www.fellowshipofwilmington.org/events/sunday-morning-
 worship/2026-09-13
END:VEVENT
END:VCALENDAR
