BEGIN:VCALENDAR
VERSION:2.0
PRODID:icalendar-ruby
CALSCALE:GREGORIAN
METHOD:PUBLISH
BEGIN:VEVENT
DTSTAMP:20260423T053512Z
UID:17-344529@fellowshipbaptist155.tithelysetup5.com
DTSTART:20261101T230000Z
DTEND:20261102T001500Z
CLASS:PUBLIC
CREATED:20260422T230532
DESCRIPTION:
LAST-MODIFIED:20260422T230532
LOCATION:
SUMMARY:Sunday Evening Worship
URL;VALUE=URI:https://www.fellowshipofwilmington.org/events/sunday-evening-
 worship/2026-11-01
END:VEVENT
END:VCALENDAR
