BEGIN:VCALENDAR
VERSION:2.0
PRODID:icalendar-ruby
CALSCALE:GREGORIAN
METHOD:PUBLISH
BEGIN:VEVENT
DTSTAMP:20260423T041458Z
UID:17-344528@fellowshipbaptist155.tithelysetup5.com
DTSTART:20261025T220000Z
DTEND:20261025T231500Z
CLASS:PUBLIC
CREATED:20260422T230532
DESCRIPTION:
LAST-MODIFIED:20260422T230532
LOCATION:
SUMMARY:Sunday Evening Worship
URL;VALUE=URI:https://www.fellowshipofwilmington.org/events/sunday-evening-
 worship/2026-10-25
END:VEVENT
END:VCALENDAR
