BEGIN:VCALENDAR
VERSION:2.0
PRODID:icalendar-ruby
CALSCALE:GREGORIAN
METHOD:PUBLISH
BEGIN:VEVENT
DTSTAMP:20260423T025256Z
UID:17-344367@fellowshipbaptist155.tithelysetup5.com
DTSTART:20261018T220000Z
DTEND:20261018T231500Z
CLASS:PUBLIC
CREATED:20260422T201117
DESCRIPTION:
LAST-MODIFIED:20260422T201117
LOCATION:
SUMMARY:Sunday Evening Worship
URL;VALUE=URI:https://www.fellowshipofwilmington.org/events/sunday-evening-
 worship/2026-10-18
END:VEVENT
END:VCALENDAR
