BEGIN:VCALENDAR
VERSION:2.0
PRODID:icalendar-ruby
CALSCALE:GREGORIAN
METHOD:PUBLISH
BEGIN:VEVENT
DTSTAMP:20260423T014017Z
UID:17-344366@fellowshipbaptist155.tithelysetup5.com
DTSTART:20261011T220000Z
DTEND:20261011T231500Z
CLASS:PUBLIC
CREATED:20260422T201117
DESCRIPTION:
LAST-MODIFIED:20260422T201117
LOCATION:
SUMMARY:Sunday Evening Worship
URL;VALUE=URI:https://www.fellowshipofwilmington.org/events/sunday-evening-
 worship/2026-10-11
END:VEVENT
END:VCALENDAR
