BEGIN:VCALENDAR
VERSION:2.0
PRODID:icalendar-ruby
CALSCALE:GREGORIAN
METHOD:PUBLISH
BEGIN:VEVENT
DTSTAMP:20260423T000854Z
UID:17-344206@fellowshipbaptist155.tithelysetup5.com
DTSTART:20261004T220000Z
DTEND:20261004T231500Z
CLASS:PUBLIC
CREATED:20260422T171942
DESCRIPTION:
LAST-MODIFIED:20260422T171942
LOCATION:
SUMMARY:Sunday Evening Worship
URL;VALUE=URI:https://www.fellowshipofwilmington.org/events/sunday-evening-
 worship/2026-10-04
END:VEVENT
END:VCALENDAR
