BEGIN:VCALENDAR
VERSION:2.0
PRODID:icalendar-ruby
CALSCALE:GREGORIAN
METHOD:PUBLISH
BEGIN:VEVENT
DTSTAMP:20260422T223630Z
UID:17-344205@fellowshipbaptist155.tithelysetup5.com
DTSTART:20260927T220000Z
DTEND:20260927T231500Z
CLASS:PUBLIC
CREATED:20260422T171942
DESCRIPTION:
LAST-MODIFIED:20260422T171942
LOCATION:
SUMMARY:Sunday Evening Worship
URL;VALUE=URI:https://www.fellowshipofwilmington.org/events/sunday-evening-
 worship/2026-09-27
END:VEVENT
END:VCALENDAR
