BEGIN:VCALENDAR
VERSION:2.0
PRODID:icalendar-ruby
CALSCALE:GREGORIAN
METHOD:PUBLISH
BEGIN:VEVENT
DTSTAMP:20260422T164737Z
UID:17-343883@fellowshipbaptist155.tithelysetup5.com
DTSTART:20260830T220000Z
DTEND:20260830T231500Z
CLASS:PUBLIC
CREATED:20260422T112942
DESCRIPTION:
LAST-MODIFIED:20260422T112942
LOCATION:
SUMMARY:Sunday Evening Worship
URL;VALUE=URI:https://www.fellowshipofwilmington.org/events/sunday-evening-
 worship/2026-08-30
END:VEVENT
END:VCALENDAR
