BEGIN:VCALENDAR
VERSION:2.0
PRODID:icalendar-ruby
CALSCALE:GREGORIAN
METHOD:PUBLISH
BEGIN:VEVENT
DTSTAMP:20260424T015306Z
UID:19-345369@fellowshipbaptist155.tithelysetup5.com
DTSTART:20261105T000000Z
DTEND:20261105T010000Z
CLASS:PUBLIC
CREATED:20260423T201258
DESCRIPTION:
LAST-MODIFIED:20260423T201258
LOCATION:
SUMMARY:Mid-Week Service
URL;VALUE=URI:https://www.fellowshipofwilmington.org/events/mid-week-servic
 e/2026-11-04
END:VEVENT
END:VCALENDAR
