BEGIN:VCALENDAR
VERSION:2.0
PRODID:icalendar-ruby
CALSCALE:GREGORIAN
METHOD:PUBLISH
BEGIN:VEVENT
DTSTAMP:20260423T223008Z
UID:19-345207@fellowshipbaptist155.tithelysetup5.com
DTSTART:20261021T230000Z
DTEND:20261022T000000Z
CLASS:PUBLIC
CREATED:20260423T171944
DESCRIPTION:
LAST-MODIFIED:20260423T171944
LOCATION:
SUMMARY:Mid-Week Service
URL;VALUE=URI:https://www.fellowshipofwilmington.org/events/mid-week-servic
 e/2026-10-21
END:VEVENT
END:VCALENDAR
