BEGIN:VCALENDAR
VERSION:2.0
PRODID:icalendar-ruby
CALSCALE:GREGORIAN
METHOD:PUBLISH
BEGIN:VEVENT
DTSTAMP:20260423T180335Z
UID:19-344884@fellowshipbaptist155.tithelysetup5.com
DTSTART:20260930T230000Z
DTEND:20261001T000000Z
CLASS:PUBLIC
CREATED:20260423T112814
DESCRIPTION:
LAST-MODIFIED:20260423T112814
LOCATION:
SUMMARY:Mid-Week Service
URL;VALUE=URI:https://www.fellowshipofwilmington.org/events/mid-week-servic
 e/2026-09-30
END:VEVENT
END:VCALENDAR
