BEGIN:VCALENDAR
VERSION:2.0
PRODID:icalendar-ruby
CALSCALE:GREGORIAN
METHOD:PUBLISH
BEGIN:VEVENT
DTSTAMP:20260423T132557Z
UID:19-344721@fellowshipbaptist155.tithelysetup5.com
DTSTART:20260909T230000Z
DTEND:20260910T000000Z
CLASS:PUBLIC
CREATED:20260423T083550
DESCRIPTION:
LAST-MODIFIED:20260423T083550
LOCATION:
SUMMARY:Mid-Week Service
URL;VALUE=URI:https://www.fellowshipofwilmington.org/events/mid-week-servic
 e/2026-09-09
END:VEVENT
END:VCALENDAR
