BEGIN:VCALENDAR
VERSION:2.0
PRODID:icalendar-ruby
CALSCALE:GREGORIAN
METHOD:PUBLISH
BEGIN:VEVENT
DTSTAMP:20260423T120018Z
UID:19-344560@fellowshipbaptist155.tithelysetup5.com
DTSTART:20260902T230000Z
DTEND:20260903T000000Z
CLASS:PUBLIC
CREATED:20260422T230532
DESCRIPTION:
LAST-MODIFIED:20260422T230532
LOCATION:
SUMMARY:Mid-Week Service
URL;VALUE=URI:https://www.fellowshipofwilmington.org/events/mid-week-servic
 e/2026-09-02
END:VEVENT
END:VCALENDAR
