BEGIN:VCALENDAR
VERSION:2.0
PRODID:icalendar-ruby
CALSCALE:GREGORIAN
METHOD:PUBLISH
BEGIN:VEVENT
DTSTAMP:20260422T101013Z
UID:43-332867@fellowshipbaptist155.tithelysetup5.com
DTSTART:20260425T123000Z
DTEND:20260425T140000Z
CLASS:PUBLIC
CREATED:20260410T150812
DESCRIPTION:
LAST-MODIFIED:20260410T150812
LOCATION:Fellowship Hall
SUMMARY:Men And Boy's Prayer Breakfast
URL;VALUE=URI:https://www.fellowshipofwilmington.org/events/men-and-boys-pr
 ayer-breakfast--43/2026-04-25
END:VEVENT
END:VCALENDAR
